BEGIN:VCALENDAR
VERSION:2.0
PRODID:-//Space Academy - ECPv4.5.2//NONSGML v1.0//EN
CALSCALE:GREGORIAN
METHOD:PUBLISH
X-WR-CALNAME:Space Academy
X-ORIGINAL-URL:http://www.spaceacademy.co.nz
X-WR-CALDESC:Events for Space Academy
BEGIN:VEVENT
DTSTART;TZID=UTC+0:20170526T210000
DTEND;TZID=UTC+0:20170526T210000
DTSTAMP:20181224T083918
CREATED:20170518T072115Z
LAST-MODIFIED:20170518T073852Z
UID:267-1495832400-1495832400@www.spaceacademy.co.nz
SUMMARY:Ha the Unclear - Big City Single Release - CHCH w/ Soaked Oats
DESCRIPTION:Ha the Unclear W/ Soaked Oats\n\nHaving already featured over the Tasman on Triple J with Richard Kingsmill dropping praise\, truths and Split Enz comparisons\, new single Big City is now going on a tour of a number of New Zealand um... cities.\n\nRecorded with Tom Healy (Tiny Ruins\, Popstrangers) in Mt Eden\, Big City describes a public transport journey as a bus full of people fail to react appropriately to an onboard emergency. Recently inhabiting Auckland after making the move from their hometown of Dunedin\, the song narrows in on that overwhelming feeling of being new to a city. Alluding to bystander apathy and diminished social responsibility\, Big City pulses and distorts as it winds its way to its inevitable\, repeating refrain ‘everyone’s anonymous’.\n\nSoaked Oats have just dropped their debut EP 'Stone Fruit Melodies' and have been endearing audiences to them across the country with their good-mood slacker-pop.\n\nSponsored by Liberty Growers purveyors of hot sauce\, growers of greenery\n\nTICKETS FROM UTR\nhttp://www.undertheradar.co.nz/ticket/6588/Ha-The-Unclear---Big-City-Single-Release-Tour.utr
URL:http://www.spaceacademy.co.nz/event/ha-the-unclear-big-city-single-release-chch-w-soaked-oats/
CATEGORIES:live music,local bands,touring bands
ATTACH;FMTTYPE=image/jpeg:http://www.spaceacademy.co.nz/wp-content/uploads/18198421_1361793643913545_4141441040712046223_n.jpg
END:VEVENT
END:VCALENDAR